BEGIN:VCALENDAR
METHOD:PUBLISH
VERSION:2.0
CALSCALE:GREGORIAN
PRODID:-//NONSGML WPForms//NONSGML Sugar Calendar Feeds v3.11.0//EN
X-WR-CALNAME:TranscenDance: Two-Year Anniversary
X-WR-CALDESC:Sanctuary Club
X-WR-TIMEZONE:UTC
BEGIN:VTIMEZONE
TZID:UTC
BEGIN:STANDARD
TZOFFSETFROM:+0000
TZOFFSETTO:+0000
DTSTART:20250223T080000
TZNAME:UTC
END:STANDARD
END:VTIMEZONE
BEGIN:VTIMEZONE
TZID:America/Los_Angeles
BEGIN:DAYLIGHT
TZOFFSETFROM:-0800
TZOFFSETTO:-0700
DTSTART:20250309T100000
TZNAME:PDT
END:DAYLIGHT
END:VTIMEZONE
BEGIN:VEVENT
SUMMARY:TranscenDance: Two-Year Anniversary
DESCRIPTION:Presented by Hellhound\n\nThis August we celebrate our two y
 ear anniversary of TRANSCENDANCE\, Portland's trans and non-binary kinky
  play party!! Special features this month TBD\, come join our discord se
 rver and submit your thoughts and input! Just dm @PupoftheDamned&nbsp\;f
 or an invite link\n\nCum dance and play among fellow transgender (non-bi
 nary included!) kinksters at TranscenDance\, a kinky play and dance part
 y by and for trans kinksters. No chasers!\n\nEnjoy Sanctuary's numerous 
 hard points\, play spaces\, spanking benches\, and dance floor. Kink\, s
 ex\, and dancing encouraged. Consent is mandatory.\n\nKINK TASTINGS:\nWh
 at is a kink tasting? A tasting is a relative short experience with a ki
 nky top experiencing one specific type of play\, to get a feel for it. T
 hese are not full scenes and negotiation is thorough with check-ins thro
 ughout. At each TranscenDance we have 2-3 tops offering tastings in a va
 riety of types of play. A sign up sheet will be located near the back co
 rner to sign up for tastings.\n\nTastings this event: TBD\n\nDRESS CODE\
 nKinky outfits\, fetish wear\, sexy club clothing\, etc. No street cloth
 es unless you are taking them off!&nbsp\;\n\nCOST\nCash: $10 before 10pm
 \, $20 after\nCC: $12 before 10pm\, $22 after\n\nDISCORD\nJoin the Trans
 cenDance discord server and seek friends and/or play partners\, plan sce
 nes\, get more information about the event\, and be a part of our trans 
 community. Message Pupofthedamned on Fetlife or email&nbsp\;Hellhoundpdx
 @gmail.com&nbsp\;for an invite link&nbsp\;\n\nGENERAL RULES:\n--Never in
 terrupt scenes. Your questions and comments must wait until afterwards.\
 n[What is a scene? If you see two or more people engaging in some type o
 f play\, kink\, or sex\, assume they are in a scene and do not interrupt
 . Do not ask to join\, obtaining consent must happen before activities b
 egin]\n--No phones in the dungeon\n--Sexual play on couches (if genitals
  are out) put a towel down! If you're on a bed\, change the sheets when 
 you're done!\n--Many people have invested large amounts of money in thei
 r sex weapons\, so ask before touching.\n-- Depending on the intensity o
 f the scene\, there may be aftercare. Compliments and questions can wait
 .\n-- Voyeurism is allowed\, but be respectful. Don't get so close you c
 ould interrupt\, disrupt\, or get in the crossfires. Also be sure not to
  block walkways.\n-- Kinky play that is NOT allowed: open flame (includi
 ng for wax play)\, piss\, scat\, vomit\, blood\, weapons\, breaking of t
 he skin (needles\, knives\, scalpels)\, breath play\, race play\, rape p
 lay\n--Absolutely no bullying\, discriminatory behavior\, or harassment.
  Be kind! Treat people with respect!\n-- See something? Say something! I
 t may not seem like a big deal but we'd rather have it on our radar befo
 re it becomes a big deal.\n\nRemember: Sanctuary is based on the princip
 les of kindness\, consent\, and respect. Failure to follow these princip
 les can result in banishment. In other words: we will kick you out if yo
 u have a bad attitude\, speak rudely to others\, interrupted play scenes
 \, or do any action to someone without consent.\n\nSanctuary is 21+\, LG
 BTQ+\, ADA\, anti-racism\, and celebrates diversity.\n\nEnter on 9th Ave
 .
URL;VALUE=URI:https://pdxsanctuary.com/events/transcendance/
UID:10003232-1756065600-1756085400@pdxsanctuary.com
STATUS:CONFIRMED
ORGANIZER:
DTSTAMP:20260421T155850Z
DTSTART;TZID=America/Los_Angeles:20250824T200000
DTEND;TZID=America/Los_Angeles:20250825T013000
END:VEVENT
END:VCALENDAR