BEGIN:VCALENDAR
METHOD:PUBLISH
VERSION:2.0
CALSCALE:GREGORIAN
PRODID:-//NONSGML WPForms//NONSGML Sugar Calendar Feeds v3.11.0//EN
X-WR-CALNAME:Knotty Productions: Suspension Hangers Class
X-WR-CALDESC:Sanctuary Club
X-WR-TIMEZONE:UTC
BEGIN:VTIMEZONE
TZID:UTC
BEGIN:STANDARD
TZOFFSETFROM:+0000
TZOFFSETTO:+0000
DTSTART:20251025T050000
TZNAME:UTC
END:STANDARD
END:VTIMEZONE
BEGIN:VTIMEZONE
TZID:UTC
BEGIN:STANDARD
TZOFFSETFROM:+0000
TZOFFSETTO:+0000
DTSTART:20251025T050000
TZNAME:UTC
END:STANDARD
END:VTIMEZONE
BEGIN:VEVENT
SUMMARY:Knotty Productions: Suspension Hangers Class
DESCRIPTION:presented by MX Knotty\n&nbsp\;\nSuspension Hangers Descript
 ion:\n\n\n 	\nDress Code:\n\n\n 	\nTight Comfortable\n\n 	\nNothing Flow
 y\n\n\n 	\n&nbsp\;Advanced Hangers for Rope Suspension is a focused deep
 -dive into the structural foundations of transitional suspension work. T
 aught by mx.knotty\, owner of knotty productions\, this class explores a
 dvanced hanger construction designed to support dynamic pathways into an
 d out of suspension. We will refine line management\, load distribution\
 , and intentional tie placement to create efficient\, stable\, and adapt
 able hanger systems. This is technical\, detail-oriented rope education 
 built for riggers who want cleaner transitions\, stronger foundations\, 
 and greater confidence in the air. Come ready to analyze\, adjust\, and 
 elevate your suspension practice.\n\n\n\n\n\n 	\nIs there anything the p
 articipants should bring with them?\n\n\n 	\nFull Suspension Kit if they
  wish to participate\n\n\n 	\nRope for a suspension safe chest and hip h
 arness (I will be using the diamond chest harness and a mermaid hip harn
 ess for the demo)\n\n 	\n2-4 Uplines (I recommend Posh)\n\n 	\nSafety Sh
 eers\n\n\n\n\n\n 	\nAre there any prerequisites to attending this worksh
 op? Is it beginner friendly?\n\n\n 	\nKnow how to tie suspension safe ha
 rnesses\n\n\n\n\nTIX: https://members.pdxsanctuary.com/events/91125
URL;VALUE=URI:https://pdxsanctuary.com/events/knotty-productions-suspens
 ion-hangers-class/
UID:urn:uuid:44330d29-f8ac-470f-b85b-e94aba84a46c
STATUS:CONFIRMED
ORGANIZER:
DTSTAMP:20260420T130349Z
DTSTART;TZID=UTC:20260425T170000
DTEND;TZID=UTC:20260425T190000
END:VEVENT
END:VCALENDAR