BEGIN:VCALENDAR
METHOD:PUBLISH
VERSION:2.0
CALSCALE:GREGORIAN
PRODID:-//NONSGML WPForms//NONSGML Sugar Calendar Feeds v3.11.0//EN
X-WR-CALNAME:Gallery Girls Exotic Figure Drawing
X-WR-CALDESC:Sanctuary Club
X-WR-TIMEZONE:UTC
BEGIN:VTIMEZONE
TZID:UTC
BEGIN:STANDARD
TZOFFSETFROM:+0000
TZOFFSETTO:+0000
DTSTART:20251027T070000
TZNAME:UTC
END:STANDARD
END:VTIMEZONE
BEGIN:VTIMEZONE
TZID:UTC
BEGIN:STANDARD
TZOFFSETFROM:+0000
TZOFFSETTO:+0000
DTSTART:20251027T070000
TZNAME:UTC
END:STANDARD
END:VTIMEZONE
BEGIN:VEVENT
SUMMARY:Gallery Girls Exotic Figure Drawing - Copy
DESCRIPTION:PDX DRINK &amp\; DRAW with GALLERY GIRLS at the Sanctuary Cl
 ub\n\n\nIn Person in Portland &amp\; Online (Live Streamed or Recorded) 
 with live models!\n\nFun Music - 5\, 10 &amp\; 25 min poses - We'll also
  ZOOM the Event LIVE!\nNUDE EXOTIC MODEL DRAWING\nDATE:&nbsp\;Monday\, A
 pril 27\, 2026\nTIME:&nbsp\;7:00 to 9:30pm Pacific time\nMODEL:&nbsp\;Je
 nnifer Fabos Patton &amp\; Model X @jenniferfabos @eyes_for_dazes\nDoors
  open at 6:30pm - Come set up\, get a drink and mingle.\n\nBuy your tick
 ets now....&nbsp\;https://SanctuaryDD.eventbrite.com\n\nIN PERSON: $20 p
 repaid / $25 on the day\n\nONLINE: only $10\n\nor get the RECORDING: $20
  (get a link to watch later)\n\nPlease TIP or pay extra for Photos (Aver
 age $10-$20)\nPay at the Door or Prepay&nbsp\;https://SanctuaryDD.eventb
 rite.com\n_____________\n\nLive at the Sanctuary Club @pdxsanctuary\nSan
 ctuary Club\n33 NW 9th Ave\,\nPortland\, OR 97209\n(Upstairs or Elevator
  - above the bar)\n\nCome buy some drinks and appitizers.\n\n\nBuy your 
 tickets now.... https://SanctuaryDD.eventbrite.com\nONLINE: $10 RECORDIN
 G: $20 (get a link to watch later)\nPlease TIP or pay extra for Photos (
 Average $10-$20)\nPay at the Door or Prepay https://SanctuaryDD.eventbri
 te.com\n__________________________\nMark your calendar… NOW 4th MONDAY
 S\nFebruary 23- Cleaopatra @hello_slothy\nMarch 23 - Johnny Nuriel @john
 ny.nuriel\nApril 27 - 2 models\; Jennifer &amp\; Andy @jenniferfabos @th
 efiguremodel_\n____________________________\nPresented by the Gallery Gi
 rls www.gallerygirls.com\nGirls@gallerygirls.com 818-535-5761
URL;VALUE=URI:https://pdxsanctuary.com/events/gallery-girls-exotic-figur
 e-drawing-2-2/
UID:urn:uuid:cab5f138-ce1e-4ce6-a564-86bc3e880c53
STATUS:CONFIRMED
ORGANIZER:
DTSTAMP:20260425T134530Z
DTSTART;TZID=UTC:20260427T190000
DTEND;TZID=UTC:20260427T223000
END:VEVENT
END:VCALENDAR